BEGIN:VCALENDAR
VERSION:2.0
PRODID:-//Lynx Technology Partners - ECPv4.5.2//NONSGML v1.0//EN
CALSCALE:GREGORIAN
METHOD:PUBLISH
X-WR-CALNAME:Lynx Technology Partners
X-ORIGINAL-URL:https://lynxgrc.com
X-WR-CALDESC:Events for Lynx Technology Partners
BEGIN:VEVENT
DTSTART;VALUE=DATE:20170111
DTEND;VALUE=DATE:20170112
DTSTAMP:20260424T100750
CREATED:20170106T172528Z
LAST-MODIFIED:20170106T172528Z
UID:2859-1484092800-1484265599@lynxgrc.com
SUMMARY:USA (Washington\, DC): Suits and Spooks DC 2017
DESCRIPTION:https://suitsandspooksdc2017.sched.com/
URL:https://lynxgrc.com/event/usa-washington-dc-suits-and-spooks-dc-2017/
CATEGORIES:InfoSec Events
END:VEVENT
END:VCALENDAR