BEGIN:VCALENDAR
VERSION:2.0
PRODID:-//Lynx Technology Partners - ECPv4.5.2//NONSGML v1.0//EN
CALSCALE:GREGORIAN
METHOD:PUBLISH
X-WR-CALNAME:Lynx Technology Partners
X-ORIGINAL-URL:https://lynxgrc.com
X-WR-CALDESC:Events for Lynx Technology Partners
BEGIN:VEVENT
DTSTART;VALUE=DATE:20170605
DTEND;VALUE=DATE:20170606
DTSTAMP:20260424T043932
CREATED:20170116T172225Z
LAST-MODIFIED:20170116T172225Z
UID:2942-1496620800-1496793599@lynxgrc.com
SUMMARY:USA (Washington\, DC): SANS Security Operations Center Summit
DESCRIPTION:https://www.sans.org/event/security-operations-center-summit-2017/schedule/
URL:https://lynxgrc.com/event/usa-washington-dc-sans-security-operations-center-summit/
CATEGORIES:InfoSec Events
END:VEVENT
END:VCALENDAR