BEGIN:VCALENDAR
VERSION:2.0
PRODID:-//Lynx Technology Partners - ECPv4.5.2//NONSGML v1.0//EN
CALSCALE:GREGORIAN
METHOD:PUBLISH
X-WR-CALNAME:Lynx Technology Partners
X-ORIGINAL-URL:https://lynxgrc.com
X-WR-CALDESC:Events for Lynx Technology Partners
BEGIN:VEVENT
DTSTART;VALUE=DATE:20170515
DTEND;VALUE=DATE:20170517
DTSTAMP:20260422T142250
CREATED:20170430T172347Z
LAST-MODIFIED:20170430T172347Z
UID:3609-1494806400-1495065599@lynxgrc.com
SUMMARY:USA (Washington\, DC): CSA Federal Summit 2017
DESCRIPTION:https://csacongress.org/event/csa-federal-summit-marriott-metro-center/
URL:https://lynxgrc.com/event/usa-washington-dc-csa-federal-summit-2017-2/
CATEGORIES:InfoSec Events
END:VEVENT
END:VCALENDAR