BEGIN:VCALENDAR
VERSION:2.0
PRODID:-//Lynx Technology Partners - ECPv4.5.2//NONSGML v1.0//EN
CALSCALE:GREGORIAN
METHOD:PUBLISH
X-WR-CALNAME:Lynx Technology Partners
X-ORIGINAL-URL:https://lynxgrc.com
X-WR-CALDESC:Events for Lynx Technology Partners
BEGIN:VEVENT
DTSTART;VALUE=DATE:20161209
DTEND;VALUE=DATE:20161210
DTSTAMP:20260423T202818
CREATED:20161227T172541Z
LAST-MODIFIED:20161227T172541Z
UID:2780-1481241600-1481414399@lynxgrc.com
SUMMARY:USA (Seattle\, Washington): HushCon 2016
DESCRIPTION:http://hushcon.com/schedule.html
URL:https://lynxgrc.com/event/usa-seattle-washington-hushcon-2016/
CATEGORIES:InfoSec Events
END:VEVENT
END:VCALENDAR