BEGIN:VCALENDAR
VERSION:2.0
PRODID:-//Lynx Technology Partners - ECPv4.5.2//NONSGML v1.0//EN
CALSCALE:GREGORIAN
METHOD:PUBLISH
X-WR-CALNAME:Lynx Technology Partners
X-ORIGINAL-URL:https://lynxgrc.com
X-WR-CALDESC:Events for Lynx Technology Partners
BEGIN:VEVENT
DTSTART;VALUE=DATE:20170601
DTEND;VALUE=DATE:20170601
DTSTAMP:20260424T000147
CREATED:20170109T172200Z
LAST-MODIFIED:20170109T172200Z
UID:2880-1496275200-1496361599@lynxgrc.com
SUMMARY:USA (Seattle\, WA): Cyber Security Summit Seattle 2017
DESCRIPTION:http://cybersummitusa.com/2017-seattle/agenda/
URL:https://lynxgrc.com/event/usa-seattle-wa-cyber-security-summit-seattle-2017/
CATEGORIES:InfoSec Events
END:VEVENT
END:VCALENDAR