BEGIN:VCALENDAR
VERSION:2.0
PRODID:-//Lynx Technology Partners - ECPv4.5.2//NONSGML v1.0//EN
CALSCALE:GREGORIAN
METHOD:PUBLISH
X-WR-CALNAME:Lynx Technology Partners
X-ORIGINAL-URL:https://lynxgrc.com
X-WR-CALDESC:Events for Lynx Technology Partners
BEGIN:VEVENT
DTSTART;VALUE=DATE:20170525
DTEND;VALUE=DATE:20170525
DTSTAMP:20260423T155202
CREATED:20170120T173020Z
LAST-MODIFIED:20170120T173020Z
UID:3001-1495670400-1495756799@lynxgrc.com
SUMMARY:USA (San Jose\, CA): Mobile Security Technologies (MoST 2017)
DESCRIPTION:http://ieee-security.org/TC/SPW2017/MoST/
URL:https://lynxgrc.com/event/usa-san-jose-ca-mobile-security-technologies-most-2017/
CATEGORIES:InfoSec Events
END:VEVENT
END:VCALENDAR