BEGIN:VCALENDAR
VERSION:2.0
PRODID:-//Lynx Technology Partners - ECPv4.5.2//NONSGML v1.0//EN
CALSCALE:GREGORIAN
METHOD:PUBLISH
X-WR-CALNAME:Lynx Technology Partners
X-ORIGINAL-URL:https://lynxgrc.com
X-WR-CALDESC:Events for Lynx Technology Partners
BEGIN:VEVENT
DTSTART;VALUE=DATE:20170117
DTEND;VALUE=DATE:20170117
DTSTAMP:20260424T174833
CREATED:20170114T173104Z
LAST-MODIFIED:20170114T173104Z
UID:2930-1484611200-1484697599@lynxgrc.com
SUMMARY:USA (San Francisco\, CA): SANS Cloud Security Summit
DESCRIPTION:https://www.sans.org/event/cloud-security-summit-2017/schedule/
URL:https://lynxgrc.com/event/usa-san-francisco-ca-sans-cloud-security-summit/
CATEGORIES:InfoSec Events
END:VEVENT
END:VCALENDAR