BEGIN:VCALENDAR
VERSION:2.0
PRODID:-//Lynx Technology Partners - ECPv4.5.2//NONSGML v1.0//EN
CALSCALE:GREGORIAN
METHOD:PUBLISH
X-WR-CALNAME:Lynx Technology Partners
X-ORIGINAL-URL:https://lynxgrc.com
X-WR-CALDESC:Events for Lynx Technology Partners
BEGIN:VEVENT
DTSTART;VALUE=DATE:20170113
DTEND;VALUE=DATE:20170114
DTSTAMP:20260424T113242
CREATED:20161227T172541Z
LAST-MODIFIED:20161227T172541Z
UID:2785-1484265600-1484438399@lynxgrc.com
SUMMARY:USA (San Diego\, CA): BSides San Diego 2017
DESCRIPTION:http://www.securitybsides.com/w/page/107007549/BSidesSanDiego
URL:https://lynxgrc.com/event/usa-san-diego-ca-bsides-san-diego-2017/
CATEGORIES:InfoSec Events
END:VEVENT
END:VCALENDAR