BEGIN:VCALENDAR
VERSION:2.0
PRODID:-//Lynx Technology Partners - ECPv4.5.2//NONSGML v1.0//EN
CALSCALE:GREGORIAN
METHOD:PUBLISH
X-WR-CALNAME:Lynx Technology Partners
X-ORIGINAL-URL:https://lynxgrc.com
X-WR-CALDESC:Events for Lynx Technology Partners
BEGIN:VEVENT
DTSTART;VALUE=DATE:20170608
DTEND;VALUE=DATE:20170609
DTSTAMP:20260424T163513
CREATED:20170305T172148Z
LAST-MODIFIED:20170305T172148Z
UID:3437-1496880000-1497052799@lynxgrc.com
SUMMARY:USA (Richmond\, VA): RVAsec 2017
DESCRIPTION:http://rvasec.com/
URL:https://lynxgrc.com/event/usa-richmond-va-rvasec-2017/
CATEGORIES:InfoSec Events
END:VEVENT
END:VCALENDAR