BEGIN:VCALENDAR
VERSION:2.0
PRODID:-//Lynx Technology Partners - ECPv4.5.2//NONSGML v1.0//EN
CALSCALE:GREGORIAN
METHOD:PUBLISH
X-WR-CALNAME:Lynx Technology Partners
X-ORIGINAL-URL:https://lynxgrc.com
X-WR-CALDESC:Events for Lynx Technology Partners
BEGIN:VEVENT
DTSTART;VALUE=DATE:20170609
DTEND;VALUE=DATE:20170609
DTSTAMP:20260424T195104
CREATED:20170319T172306Z
LAST-MODIFIED:20170319T172306Z
UID:3490-1496966400-1497052799@lynxgrc.com
SUMMARY:USA (Pittsburgh\, PA): BSides Pittsburgh 2017
DESCRIPTION:https://bsidespgh.com/2017/schedule.php
URL:https://lynxgrc.com/event/usa-pittsburgh-pa-bsides-pittsburgh-2017/
CATEGORIES:InfoSec Events
END:VEVENT
END:VCALENDAR