BEGIN:VCALENDAR
VERSION:2.0
PRODID:-//Lynx Technology Partners - ECPv4.5.2//NONSGML v1.0//EN
CALSCALE:GREGORIAN
METHOD:PUBLISH
X-WR-CALNAME:Lynx Technology Partners
X-ORIGINAL-URL:https://lynxgrc.com
X-WR-CALDESC:Events for Lynx Technology Partners
BEGIN:VEVENT
DTSTART;VALUE=DATE:20170604
DTEND;VALUE=DATE:20170607
DTSTAMP:20260424T030521
CREATED:20170319T172305Z
LAST-MODIFIED:20170319T172305Z
UID:3489-1496534400-1496879999@lynxgrc.com
SUMMARY:USA (Oxon Hill\, MD): MetricStream GRC Summit 2017
DESCRIPTION:https://www.grc-summit.com/us/2017
URL:https://lynxgrc.com/event/usa-oxon-hill-md-metricstream-grc-summit-2017/
CATEGORIES:InfoSec Events
END:VEVENT
END:VCALENDAR