BEGIN:VCALENDAR
VERSION:2.0
PRODID:-//Lynx Technology Partners - ECPv4.5.2//NONSGML v1.0//EN
CALSCALE:GREGORIAN
METHOD:PUBLISH
X-WR-CALNAME:Lynx Technology Partners
X-ORIGINAL-URL:https://lynxgrc.com
X-WR-CALDESC:Events for Lynx Technology Partners
BEGIN:VEVENT
DTSTART;VALUE=DATE:20170607
DTEND;VALUE=DATE:20170608
DTSTAMP:20260424T090154
CREATED:20170126T172306Z
LAST-MODIFIED:20170126T172306Z
UID:3042-1496793600-1496966399@lynxgrc.com
SUMMARY:USA (New York\, NY): BSides New York 2016
DESCRIPTION:https://www.asisonline.org/Education-Events/Global-Conferences/New-York-Expo/Pages/default.aspx
URL:https://lynxgrc.com/event/usa-new-york-ny-bsides-new-york-2016/
CATEGORIES:InfoSec Events
END:VEVENT
END:VCALENDAR