BEGIN:VCALENDAR
VERSION:2.0
PRODID:-//Lynx Technology Partners - ECPv4.5.2//NONSGML v1.0//EN
CALSCALE:GREGORIAN
METHOD:PUBLISH
X-WR-CALNAME:Lynx Technology Partners
X-ORIGINAL-URL:https://lynxgrc.com
X-WR-CALDESC:Events for Lynx Technology Partners
BEGIN:VEVENT
DTSTART;VALUE=DATE:20161213
DTEND;VALUE=DATE:20161213
DTSTAMP:20260423T220410
CREATED:20160917T173424Z
LAST-MODIFIED:20160917T173424Z
UID:2538-1481587200-1481673599@lynxgrc.com
SUMMARY:USA (New Haven\, CT): CISO Executive Summit Connecticut 2016
DESCRIPTION:http://www.evanta.com/ciso/summits/connecticut/agenda
URL:https://lynxgrc.com/event/usa-new-haven-ct-ciso-executive-summit-connecticut-2016/
CATEGORIES:InfoSec Events
END:VEVENT
END:VCALENDAR