BEGIN:VCALENDAR
VERSION:2.0
PRODID:-//Lynx Technology Partners - ECPv4.5.2//NONSGML v1.0//EN
CALSCALE:GREGORIAN
METHOD:PUBLISH
X-WR-CALNAME:Lynx Technology Partners
X-ORIGINAL-URL:https://lynxgrc.com
X-WR-CALDESC:Events for Lynx Technology Partners
BEGIN:VEVENT
DTSTART;VALUE=DATE:20170612
DTEND;VALUE=DATE:20170615
DTSTAMP:20260425T032440
CREATED:20170326T172314Z
LAST-MODIFIED:20170326T172314Z
UID:3504-1497225600-1497571199@lynxgrc.com
SUMMARY:USA (National Harbor\, MD): Gartner Security & Risk Management Summit 2017
DESCRIPTION:http://www.gartner.com/events/na/security#section_agenda
URL:https://lynxgrc.com/event/usa-national-harbor-md-gartner-security-risk-management-summit-2017/
CATEGORIES:InfoSec Events
END:VEVENT
END:VCALENDAR