BEGIN:VCALENDAR
VERSION:2.0
PRODID:-//Lynx Technology Partners - ECPv4.5.2//NONSGML v1.0//EN
CALSCALE:GREGORIAN
METHOD:PUBLISH
X-WR-CALNAME:Lynx Technology Partners
X-ORIGINAL-URL:https://lynxgrc.com
X-WR-CALDESC:Events for Lynx Technology Partners
BEGIN:VEVENT
DTSTART;VALUE=DATE:20161115
DTEND;VALUE=DATE:20161115
DTSTAMP:20260422T091606
CREATED:20160701T172011Z
LAST-MODIFIED:20160701T172011Z
UID:2386-1479168000-1479254399@lynxgrc.com
SUMMARY:USA (Milwaukee\, WI): CISO Executive Summit Milwaukee 2016
DESCRIPTION:http://www.evanta.com/ciso/summits/milwaukee/agenda
URL:https://lynxgrc.com/event/usa-milwaukee-wi-ciso-executive-summit-milwaukee-2016/
CATEGORIES:InfoSec Events
END:VEVENT
END:VCALENDAR