BEGIN:VCALENDAR
VERSION:2.0
PRODID:-//Lynx Technology Partners - ECPv4.5.2//NONSGML v1.0//EN
CALSCALE:GREGORIAN
METHOD:PUBLISH
X-WR-CALNAME:Lynx Technology Partners
X-ORIGINAL-URL:https://lynxgrc.com
X-WR-CALDESC:Events for Lynx Technology Partners
BEGIN:VEVENT
DTSTART;VALUE=DATE:20170110
DTEND;VALUE=DATE:20170112
DTSTAMP:20260424T065148
CREATED:20170106T172528Z
LAST-MODIFIED:20170106T172528Z
UID:2858-1484006400-1484265599@lynxgrc.com
SUMMARY:USA (Miami South Beach\, FL): S4x17
DESCRIPTION:http://www.cvent.com/events/s4x17/agenda-3599b467bc02483eb83063a1933712a5.aspx
URL:https://lynxgrc.com/event/usa-miami-south-beach-fl-s4x17/
CATEGORIES:InfoSec Events
END:VEVENT
END:VCALENDAR