BEGIN:VCALENDAR
VERSION:2.0
PRODID:-//Lynx Technology Partners - ECPv4.5.2//NONSGML v1.0//EN
CALSCALE:GREGORIAN
METHOD:PUBLISH
X-WR-CALNAME:Lynx Technology Partners
X-ORIGINAL-URL:https://lynxgrc.com
X-WR-CALDESC:Events for Lynx Technology Partners
BEGIN:VEVENT
DTSTART;VALUE=DATE:20160617
DTEND;VALUE=DATE:20160617
DTSTAMP:20260419T191649
CREATED:20160523T172026Z
LAST-MODIFIED:20160523T172026Z
UID:2030-1466121600-1466207999@lynxgrc.com
SUMMARY:USA (Memphis\, TN): CISO Executive Summit Memphis
DESCRIPTION:http://www.evanta.com/ciso/summits/memphis/agenda
URL:https://lynxgrc.com/event/usa-memphis-tn-ciso-executive-summit-memphis-2/
CATEGORIES:InfoSec Events
END:VEVENT
END:VCALENDAR