BEGIN:VCALENDAR
VERSION:2.0
PRODID:-//Lynx Technology Partners - ECPv4.5.2//NONSGML v1.0//EN
CALSCALE:GREGORIAN
METHOD:PUBLISH
X-WR-CALNAME:Lynx Technology Partners
X-ORIGINAL-URL:https://lynxgrc.com
X-WR-CALDESC:Events for Lynx Technology Partners
BEGIN:VEVENT
DTSTART;VALUE=DATE:20170519
DTEND;VALUE=DATE:20170519
DTSTAMP:20260423T061024
CREATED:20170225T172804Z
LAST-MODIFIED:20170225T172804Z
UID:3391-1495152000-1495238399@lynxgrc.com
SUMMARY:USA (Los Angeles\, CA): ISSA Summit Los Angeles 2017
DESCRIPTION:https://summit.issala.org/
URL:https://lynxgrc.com/event/usa-los-angeles-ca-issa-summit-los-angeles-2017/
CATEGORIES:InfoSec Events
END:VEVENT
END:VCALENDAR