BEGIN:VCALENDAR
VERSION:2.0
PRODID:-//Lynx Technology Partners - ECPv4.5.2//NONSGML v1.0//EN
CALSCALE:GREGORIAN
METHOD:PUBLISH
X-WR-CALNAME:Lynx Technology Partners
X-ORIGINAL-URL:https://lynxgrc.com
X-WR-CALDESC:Events for Lynx Technology Partners
BEGIN:VEVENT
DTSTART;VALUE=DATE:20161205
DTEND;VALUE=DATE:20161206
DTSTAMP:20260423T111040
CREATED:20161227T172541Z
LAST-MODIFIED:20161227T172541Z
UID:2772-1480896000-1481068799@lynxgrc.com
SUMMARY:USA (Los Angeles\, CA): 6th Software Security\, Protection\, and Reverse Engineering Workshop (SSPPREW)
DESCRIPTION:http://www.pprew.org/keynotes.htm
URL:https://lynxgrc.com/event/usa-los-angeles-ca-6th-software-security-protection-and-reverse-engineering-workshop-sspprew/
CATEGORIES:InfoSec Events
END:VEVENT
END:VCALENDAR