BEGIN:VCALENDAR
VERSION:2.0
PRODID:-//Lynx Technology Partners - ECPv4.5.2//NONSGML v1.0//EN
CALSCALE:GREGORIAN
METHOD:PUBLISH
X-WR-CALNAME:Lynx Technology Partners
X-ORIGINAL-URL:https://lynxgrc.com
X-WR-CALDESC:Events for Lynx Technology Partners
BEGIN:VEVENT
DTSTART;VALUE=DATE:20170522
DTEND;VALUE=DATE:20170525
DTSTAMP:20260423T142131
CREATED:20170409T172604Z
LAST-MODIFIED:20170409T172604Z
UID:3555-1495411200-1495756799@lynxgrc.com
SUMMARY:USA (Las Vegas\, NV): Enfuse 2017
DESCRIPTION:https://www.guidancesoftware.com/enfuse-conference/sessions?cmpid=nav_r
URL:https://lynxgrc.com/event/usa-las-vegas-nv-enfuse-2017/
CATEGORIES:InfoSec Events
END:VEVENT
END:VCALENDAR