BEGIN:VCALENDAR
VERSION:2.0
PRODID:-//Lynx Technology Partners - ECPv4.5.2//NONSGML v1.0//EN
CALSCALE:GREGORIAN
METHOD:PUBLISH
X-WR-CALNAME:Lynx Technology Partners
X-ORIGINAL-URL:https://lynxgrc.com
X-WR-CALDESC:Events for Lynx Technology Partners
BEGIN:VEVENT
DTSTART;VALUE=DATE:20161112
DTEND;VALUE=DATE:20161112
DTSTAMP:20260419T215622
CREATED:20160828T173102Z
LAST-MODIFIED:20160828T173102Z
UID:2503-1478908800-1478995199@lynxgrc.com
SUMMARY:USA (Jackson\, MS): BSides Jackson 2016
DESCRIPTION:http://www.securitybsides.com/w/page/107983625/BSidesJackson%202016
URL:https://lynxgrc.com/event/usa-jackson-ms-bsides-jackson-2016/
CATEGORIES:InfoSec Events
END:VEVENT
END:VCALENDAR