BEGIN:VCALENDAR
VERSION:2.0
PRODID:-//Lynx Technology Partners - ECPv4.5.2//NONSGML v1.0//EN
CALSCALE:GREGORIAN
METHOD:PUBLISH
X-WR-CALNAME:Lynx Technology Partners
X-ORIGINAL-URL:https://lynxgrc.com
X-WR-CALDESC:Events for Lynx Technology Partners
BEGIN:VEVENT
DTSTART;VALUE=DATE:20170609
DTEND;VALUE=DATE:20170611
DTSTAMP:20260424T181951
CREATED:20170106T172528Z
LAST-MODIFIED:20170106T172528Z
UID:2866-1496966400-1497225599@lynxgrc.com
SUMMARY:USA (Indianapolis\, IN): CircleCityCon 2017
DESCRIPTION:https://circlecitycon.com/
URL:https://lynxgrc.com/event/usa-indianapolis-in-circlecitycon-2017/
CATEGORIES:InfoSec Events
END:VEVENT
END:VCALENDAR