BEGIN:VCALENDAR
VERSION:2.0
PRODID:-//Lynx Technology Partners - ECPv4.5.2//NONSGML v1.0//EN
CALSCALE:GREGORIAN
METHOD:PUBLISH
X-WR-CALNAME:Lynx Technology Partners
X-ORIGINAL-URL:https://lynxgrc.com
X-WR-CALDESC:Events for Lynx Technology Partners
BEGIN:VEVENT
DTSTART;VALUE=DATE:20170204
DTEND;VALUE=DATE:20170204
DTSTAMP:20260425T001844
CREATED:20161227T172542Z
LAST-MODIFIED:20161227T172542Z
UID:2791-1486166400-1486252799@lynxgrc.com
SUMMARY:USA (Huntsville\, AL): BSides Huntsville 2017
DESCRIPTION:http://www.securitybsides.com/w/page/109126063/BSides%20Huntsville%202017
URL:https://lynxgrc.com/event/usa-huntsville-al-bsides-huntsville-2017/
CATEGORIES:InfoSec Events
END:VEVENT
END:VCALENDAR