BEGIN:VCALENDAR
VERSION:2.0
PRODID:-//Lynx Technology Partners - ECPv4.5.2//NONSGML v1.0//EN
CALSCALE:GREGORIAN
METHOD:PUBLISH
X-WR-CALNAME:Lynx Technology Partners
X-ORIGINAL-URL:https://lynxgrc.com
X-WR-CALDESC:Events for Lynx Technology Partners
BEGIN:VEVENT
DTSTART;VALUE=DATE:20161114
DTEND;VALUE=DATE:20161115
DTSTAMP:20260420T023934
CREATED:20160601T172013Z
LAST-MODIFIED:20160601T172013Z
UID:2195-1479081600-1479254399@lynxgrc.com
SUMMARY:USA (Houston\, TX): SANS Healthcare CyberSecurity Summit
DESCRIPTION:https://www.sans.org/event/healthcare-cyber-security-summit-2016/schedule/
URL:https://lynxgrc.com/event/usa-houston-tx-sans-healthcare-cybersecurity-summit/
CATEGORIES:InfoSec Events
END:VEVENT
END:VCALENDAR