BEGIN:VCALENDAR
VERSION:2.0
PRODID:-//Lynx Technology Partners - ECPv4.5.2//NONSGML v1.0//EN
CALSCALE:GREGORIAN
METHOD:PUBLISH
X-WR-CALNAME:Lynx Technology Partners
X-ORIGINAL-URL:https://lynxgrc.com
X-WR-CALDESC:Events for Lynx Technology Partners
BEGIN:VEVENT
DTSTART;VALUE=DATE:20161109
DTEND;VALUE=DATE:20161110
DTSTAMP:20260419T145727
CREATED:20160722T172157Z
LAST-MODIFIED:20160722T172157Z
UID:2464-1478649600-1478822399@lynxgrc.com
SUMMARY:USA (Houston\, Texas): 11th Annual API Cybersecurity Conference & Expo
DESCRIPTION:http://www.api.org/products-and-services/events/calendar/2016/cyber#tab_programdetails
URL:https://lynxgrc.com/event/usa-houston-texas-11th-annual-api-cybersecurity-conference-expo/
CATEGORIES:InfoSec Events
END:VEVENT
END:VCALENDAR