BEGIN:VCALENDAR
VERSION:2.0
PRODID:-//Lynx Technology Partners - ECPv4.5.2//NONSGML v1.0//EN
CALSCALE:GREGORIAN
METHOD:PUBLISH
X-WR-CALNAME:Lynx Technology Partners
X-ORIGINAL-URL:https://lynxgrc.com
X-WR-CALDESC:Events for Lynx Technology Partners
BEGIN:VEVENT
DTSTART;VALUE=DATE:20161206
DTEND;VALUE=DATE:20161206
DTSTAMP:20260423T155550
CREATED:20161227T172541Z
LAST-MODIFIED:20161227T172541Z
UID:2776-1480982400-1481068799@lynxgrc.com
SUMMARY:USA (Detroit\, MI): CISO Executive Summit Detroit 2016
DESCRIPTION:http://www.evanta.com/ciso/summits/detroit/agenda
URL:https://lynxgrc.com/event/usa-detroit-mi-ciso-executive-summit-detroit-2016/
CATEGORIES:InfoSec Events
END:VEVENT
END:VCALENDAR