BEGIN:VCALENDAR
VERSION:2.0
PRODID:-//Lynx Technology Partners - ECPv4.5.2//NONSGML v1.0//EN
CALSCALE:GREGORIAN
METHOD:PUBLISH
X-WR-CALNAME:Lynx Technology Partners
X-ORIGINAL-URL:https://lynxgrc.com
X-WR-CALDESC:Events for Lynx Technology Partners
BEGIN:VEVENT
DTSTART;VALUE=DATE:20161129
DTEND;VALUE=DATE:20161129
DTSTAMP:20260422T180204
CREATED:20161227T172540Z
LAST-MODIFIED:20161227T172540Z
UID:2762-1480377600-1480463999@lynxgrc.com
SUMMARY:USA (Dallas\, TX): CISO Executive Summit Dallas 2016
DESCRIPTION:http://www.evanta.com/ciso/summits/dallas/agenda
URL:https://lynxgrc.com/event/usa-dallas-tx-ciso-executive-summit-dallas-2016/
CATEGORIES:InfoSec Events
END:VEVENT
END:VCALENDAR