BEGIN:VCALENDAR
VERSION:2.0
PRODID:-//Lynx Technology Partners - ECPv4.5.2//NONSGML v1.0//EN
CALSCALE:GREGORIAN
METHOD:PUBLISH
X-WR-CALNAME:Lynx Technology Partners
X-ORIGINAL-URL:https://lynxgrc.com
X-WR-CALDESC:Events for Lynx Technology Partners
BEGIN:VEVENT
DTSTART;VALUE=DATE:20170116
DTEND;VALUE=DATE:20170116
DTSTAMP:20260424T142731
CREATED:20161227T172542Z
LAST-MODIFIED:20161227T172542Z
UID:2787-1484524800-1484611199@lynxgrc.com
SUMMARY:USA (Columbus\, OH): BSides Columbus 2017
DESCRIPTION:http://cmhbsides2017.busyconf.com/schedule
URL:https://lynxgrc.com/event/usa-columbus-oh-bsides-columbus-2017/
CATEGORIES:InfoSec Events
END:VEVENT
END:VCALENDAR