BEGIN:VCALENDAR
VERSION:2.0
PRODID:-//Lynx Technology Partners - ECPv4.5.2//NONSGML v1.0//EN
CALSCALE:GREGORIAN
METHOD:PUBLISH
X-WR-CALNAME:Lynx Technology Partners
X-ORIGINAL-URL:https://lynxgrc.com
X-WR-CALDESC:Events for Lynx Technology Partners
BEGIN:VEVENT
DTSTART;VALUE=DATE:20170607
DTEND;VALUE=DATE:20170607
DTSTAMP:20260424T133202
CREATED:20170409T172605Z
LAST-MODIFIED:20170409T172605Z
UID:3556-1496793600-1496879999@lynxgrc.com
SUMMARY:USA (Chicago\, IL): SecureWorld Chicago 2017
DESCRIPTION:http://events.secureworldexpo.com/agenda/chicago-il-2017/
URL:https://lynxgrc.com/event/usa-chicago-il-secureworld-chicago-2017/
CATEGORIES:InfoSec Events
END:VEVENT
END:VCALENDAR