BEGIN:VCALENDAR
VERSION:2.0
PRODID:-//Lynx Technology Partners - ECPv4.5.2//NONSGML v1.0//EN
CALSCALE:GREGORIAN
METHOD:PUBLISH
X-WR-CALNAME:Lynx Technology Partners
X-ORIGINAL-URL:https://lynxgrc.com
X-WR-CALDESC:Events for Lynx Technology Partners
BEGIN:VEVENT
DTSTART;VALUE=DATE:20170516
DTEND;VALUE=DATE:20170517
DTSTAMP:20260422T175646
CREATED:20170126T172306Z
LAST-MODIFIED:20170126T172306Z
UID:3041-1494892800-1495065599@lynxgrc.com
SUMMARY:USA (Chicago\, IL): Cyber Risk Insights Conference Chicago 2017
DESCRIPTION:http://www.advisenltd.com/events/conferences/05/16/2017-cyber-risk-insights-conference-chicago/
URL:https://lynxgrc.com/event/usa-chicago-il-cyber-risk-insights-conference-chicago-2017/
CATEGORIES:InfoSec Events
END:VEVENT
END:VCALENDAR