BEGIN:VCALENDAR
VERSION:2.0
PRODID:-//Lynx Technology Partners - ECPv4.5.2//NONSGML v1.0//EN
CALSCALE:GREGORIAN
METHOD:PUBLISH
X-WR-CALNAME:Lynx Technology Partners
X-ORIGINAL-URL:https://lynxgrc.com
X-WR-CALDESC:Events for Lynx Technology Partners
BEGIN:VEVENT
DTSTART;VALUE=DATE:20161129
DTEND;VALUE=DATE:20161129
DTSTAMP:20260422T161129
CREATED:20160910T172131Z
LAST-MODIFIED:20160910T172131Z
UID:2519-1480377600-1480463999@lynxgrc.com
SUMMARY:USA (Chicago\, IL): CISO Executive Summit Chicago 2016
DESCRIPTION:http://www.evanta.com/ciso/summits/chicago/agenda
URL:https://lynxgrc.com/event/usa-chicago-il-ciso-executive-summit-chicago-2016/
CATEGORIES:InfoSec Events
END:VEVENT
END:VCALENDAR