BEGIN:VCALENDAR
VERSION:2.0
PRODID:-//Lynx Technology Partners - ECPv4.5.2//NONSGML v1.0//EN
CALSCALE:GREGORIAN
METHOD:PUBLISH
X-WR-CALNAME:Lynx Technology Partners
X-ORIGINAL-URL:https://lynxgrc.com
X-WR-CALDESC:Events for Lynx Technology Partners
BEGIN:VEVENT
DTSTART;VALUE=DATE:20161214
DTEND;VALUE=DATE:20161214
DTSTAMP:20260424T010002
CREATED:20160910T172132Z
LAST-MODIFIED:20160910T172132Z
UID:2521-1481673600-1481759999@lynxgrc.com
SUMMARY:USA (Charlotte\, NC): CISO Executive Summit Charlotte 2016
DESCRIPTION:http://www.evanta.com/ciso/summits/charlotte/agenda
URL:https://lynxgrc.com/event/usa-charlotte-nc-ciso-executive-summit-charlotte-2016/
CATEGORIES:InfoSec Events
END:VEVENT
END:VCALENDAR