BEGIN:VCALENDAR
VERSION:2.0
PRODID:-//Lynx Technology Partners - ECPv4.5.2//NONSGML v1.0//EN
CALSCALE:GREGORIAN
METHOD:PUBLISH
X-WR-CALNAME:Lynx Technology Partners
X-ORIGINAL-URL:https://lynxgrc.com
X-WR-CALDESC:Events for Lynx Technology Partners
BEGIN:VEVENT
DTSTART;VALUE=DATE:20161110
DTEND;VALUE=DATE:20161112
DTSTAMP:20260419T185353
CREATED:20161227T172540Z
LAST-MODIFIED:20161227T172540Z
UID:2757-1478736000-1478995199@lynxgrc.com
SUMMARY:USA (Brooklyn\, NY): CSAW 2016
DESCRIPTION:https://csaw.engineering.nyu.edu/agenda
URL:https://lynxgrc.com/event/usa-brooklyn-ny-csaw-2016/
CATEGORIES:InfoSec Events
END:VEVENT
END:VCALENDAR