BEGIN:VCALENDAR
VERSION:2.0
PRODID:-//Lynx Technology Partners - ECPv4.5.2//NONSGML v1.0//EN
CALSCALE:GREGORIAN
METHOD:PUBLISH
X-WR-CALNAME:Lynx Technology Partners
X-ORIGINAL-URL:https://lynxgrc.com
X-WR-CALDESC:Events for Lynx Technology Partners
BEGIN:VEVENT
DTSTART;VALUE=DATE:20161205
DTEND;VALUE=DATE:20161205
DTSTAMP:20260423T092506
CREATED:20160828T173102Z
LAST-MODIFIED:20160828T173102Z
UID:2506-1480896000-1480982399@lynxgrc.com
SUMMARY:USA (Boston\, MA): CISO Executive Summit Boston 2016
DESCRIPTION:http://www.evanta.com/ciso/summits/boston/agenda
URL:https://lynxgrc.com/event/usa-boston-ma-ciso-executive-summit-boston-2016/
CATEGORIES:InfoSec Events
END:VEVENT
END:VCALENDAR