BEGIN:VCALENDAR
VERSION:2.0
PRODID:-//Lynx Technology Partners - ECPv4.5.2//NONSGML v1.0//EN
CALSCALE:GREGORIAN
METHOD:PUBLISH
X-WR-CALNAME:Lynx Technology Partners
X-ORIGINAL-URL:https://lynxgrc.com
X-WR-CALDESC:Events for Lynx Technology Partners
BEGIN:VEVENT
DTSTART;VALUE=DATE:20161112
DTEND;VALUE=DATE:20161112
DTSTAMP:20260420T010935
CREATED:20161227T172540Z
LAST-MODIFIED:20161227T172540Z
UID:2761-1478908800-1478995199@lynxgrc.com
SUMMARY:USA (Boise\, ID): BSides Boise 2016
DESCRIPTION:http://www.securitybsides.com/w/page/109594336/BsidesBoise-2016
URL:https://lynxgrc.com/event/usa-boise-id-bsides-boise-2016/
CATEGORIES:InfoSec Events
END:VEVENT
END:VCALENDAR