BEGIN:VCALENDAR
VERSION:2.0
PRODID:-//Lynx Technology Partners - ECPv4.5.2//NONSGML v1.0//EN
CALSCALE:GREGORIAN
METHOD:PUBLISH
X-WR-CALNAME:Lynx Technology Partners
X-ORIGINAL-URL:https://lynxgrc.com
X-WR-CALDESC:Events for Lynx Technology Partners
BEGIN:VEVENT
DTSTART;VALUE=DATE:20170531
DTEND;VALUE=DATE:20170531
DTSTAMP:20260423T204323
CREATED:20170106T172528Z
LAST-MODIFIED:20170106T172528Z
UID:2864-1496188800-1496275199@lynxgrc.com
SUMMARY:USA (Atlanta\, Georgia): CISO Executive Summit Atlanta
DESCRIPTION:http://www.evanta.com/ciso/summits/atlanta/agenda
URL:https://lynxgrc.com/event/usa-atlanta-georgia-ciso-executive-summit-atlanta-3/
CATEGORIES:InfoSec Events
END:VEVENT
END:VCALENDAR