BEGIN:VCALENDAR
VERSION:2.0
PRODID:-//Lynx Technology Partners - ECPv4.5.2//NONSGML v1.0//EN
CALSCALE:GREGORIAN
METHOD:PUBLISH
X-WR-CALNAME:Lynx Technology Partners
X-ORIGINAL-URL:https://lynxgrc.com
X-WR-CALDESC:Events for Lynx Technology Partners
BEGIN:VEVENT
DTSTART;VALUE=DATE:20170531
DTEND;VALUE=DATE:20170601
DTSTAMP:20260423T223344
CREATED:20170113T172955Z
LAST-MODIFIED:20170113T172955Z
UID:2927-1496188800-1496361599@lynxgrc.com
SUMMARY:USA (Atlanta\, GA): SecureWorld Atlanta 2017
DESCRIPTION:https://events.secureworldexpo.com/agenda/atlanta-ga-2017/
URL:https://lynxgrc.com/event/usa-atlanta-ga-secureworld-atlanta-2017/
CATEGORIES:InfoSec Events
END:VEVENT
END:VCALENDAR