BEGIN:VCALENDAR
VERSION:2.0
PRODID:-//Lynx Technology Partners - ECPv4.5.2//NONSGML v1.0//EN
CALSCALE:GREGORIAN
METHOD:PUBLISH
X-WR-CALNAME:Lynx Technology Partners
X-ORIGINAL-URL:https://lynxgrc.com
X-WR-CALDESC:Events for Lynx Technology Partners
BEGIN:VEVENT
DTSTART;VALUE=DATE:20170607
DTEND;VALUE=DATE:20170608
DTSTAMP:20260424T103958
CREATED:20170203T172211Z
LAST-MODIFIED:20170203T172211Z
UID:3141-1496793600-1496966399@lynxgrc.com
SUMMARY:USA (Albany\, NY): 20th New York State Cyber Security Conference
DESCRIPTION:https://its.ny.gov/2017-new-york-state-cyber-security-conference
URL:https://lynxgrc.com/event/usa-albany-ny-20th-new-york-state-cyber-security-conference/
CATEGORIES:InfoSec Events
END:VEVENT
END:VCALENDAR