BEGIN:VCALENDAR
VERSION:2.0
PRODID:-//Lynx Technology Partners - ECPv4.5.2//NONSGML v1.0//EN
CALSCALE:GREGORIAN
METHOD:PUBLISH
X-WR-CALNAME:Lynx Technology Partners
X-ORIGINAL-URL:https://lynxgrc.com
X-WR-CALDESC:Events for Lynx Technology Partners
BEGIN:VEVENT
DTSTART;VALUE=DATE:20161205
DTEND;VALUE=DATE:20161205
DTSTAMP:20260423T143009
CREATED:20161227T172541Z
LAST-MODIFIED:20161227T172541Z
UID:2775-1480896000-1480982399@lynxgrc.com
SUMMARY:Canada (Toronto\, ON): CISO Executive Summit Toronto
DESCRIPTION:http://www.evanta.com/ciso/summits/toronto/agenda
URL:https://lynxgrc.com/event/canada-toronto-on-ciso-executive-summit-toronto/
CATEGORIES:InfoSec Events
END:VEVENT
END:VCALENDAR