BEGIN:VCALENDAR
VERSION:2.0
PRODID:-//Lynx Technology Partners - ECPv4.5.2//NONSGML v1.0//EN
CALSCALE:GREGORIAN
METHOD:PUBLISH
X-WR-CALNAME:Lynx Technology Partners
X-ORIGINAL-URL:https://lynxgrc.com
X-WR-CALDESC:Events for Lynx Technology Partners
BEGIN:VEVENT
DTSTART;VALUE=DATE:20161117
DTEND;VALUE=DATE:20161118
DTSTAMP:20260422T123716
CREATED:20160828T173102Z
LAST-MODIFIED:20160828T173102Z
UID:2504-1479340800-1479513599@lynxgrc.com
SUMMARY:Canada (Ottawa\, Ontario): COUNTERMEASURE 2016
DESCRIPTION:https://www.countermeasure.ca/program
URL:https://lynxgrc.com/event/canada-ottawa-ontario-countermeasure-2016/
CATEGORIES:InfoSec Events
END:VEVENT
END:VCALENDAR