BEGIN:VCALENDAR
VERSION:2.0
PRODID:-//Lynx Technology Partners - ECPv4.5.2//NONSGML v1.0//EN
CALSCALE:GREGORIAN
METHOD:PUBLISH
X-WR-CALNAME:Lynx Technology Partners
X-ORIGINAL-URL:https://lynxgrc.com
X-WR-CALDESC:Events for Lynx Technology Partners
BEGIN:VEVENT
DTSTART;VALUE=DATE:20160617
DTEND;VALUE=DATE:20160619
DTSTAMP:20260419T204508
CREATED:20160523T172022Z
LAST-MODIFIED:20160523T172022Z
UID:1984-1466121600-1466380799@lynxgrc.com
SUMMARY:Canada (Montreal\, QC): Recon 2016
DESCRIPTION:http://recon.cx/2016/conference/
URL:https://lynxgrc.com/event/canada-montreal-qc-recon-2016/
CATEGORIES:InfoSec Events
END:VEVENT
END:VCALENDAR