BEGIN:VCALENDAR
VERSION:2.0
PRODID:-//Lynx Technology Partners - ECPv4.5.2//NONSGML v1.0//EN
CALSCALE:GREGORIAN
METHOD:PUBLISH
X-WR-CALNAME:Lynx Technology Partners
X-ORIGINAL-URL:https://lynxgrc.com
X-WR-CALDESC:Events for Lynx Technology Partners
BEGIN:VEVENT
DTSTART;VALUE=DATE:20161214
DTEND;VALUE=DATE:20161214
DTSTAMP:20260423T232447
CREATED:20160903T174730Z
LAST-MODIFIED:20160903T174730Z
UID:2510-1481673600-1481759999@lynxgrc.com
SUMMARY:Canada (Calgary\, AB): CISO Executive Summit Calgary 2016
DESCRIPTION:http://www.evanta.com/ciso/summits/calgary/agenda
URL:https://lynxgrc.com/event/canada-calgary-ab-ciso-executive-summit-calgary-2016/
CATEGORIES:InfoSec Events
END:VEVENT
END:VCALENDAR